BEGIN:VCALENDAR
VERSION:2.0
PRODID:icalendar-ruby
CALSCALE:GREGORIAN
METHOD:PUBLISH
BEGIN:VEVENT
DTSTAMP:20260425T030751Z
UID:16-1013939@wordformed.org
DTSTART:20261025T150000Z
DTEND:20261025T153000Z
CLASS:PUBLIC
CREATED:20260424T212435
DESCRIPTION:Thy Kingdom Come - Sunday Morning Corporate Prayer
LAST-MODIFIED:20260424T212435
LOCATION:
SUMMARY:Thy Kingdom Come - Sunday Morning Corporate Prayer
URL;VALUE=URI:https://wordformed.org/events/thy-kingdom-come-sunday-morning
 -corporate-prayer/2026-10-25
END:VEVENT
END:VCALENDAR
