BEGIN:VCALENDAR
VERSION:2.0
PRODID:icalendar-ruby
CALSCALE:GREGORIAN
METHOD:PUBLISH
BEGIN:VEVENT
DTSTAMP:20260424T213725Z
UID:16-1012096@wordformed.org
DTSTART:20261004T150000Z
DTEND:20261004T153000Z
CLASS:PUBLIC
CREATED:20260424T154828
DESCRIPTION:Thy Kingdom Come - Sunday Morning Corporate Prayer
LAST-MODIFIED:20260424T154828
LOCATION:
SUMMARY:Thy Kingdom Come - Sunday Morning Corporate Prayer
URL;VALUE=URI:https://wordformed.org/events/thy-kingdom-come-sunday-morning
 -corporate-prayer/2026-10-04
END:VEVENT
END:VCALENDAR
