BEGIN:VCALENDAR
VERSION:2.0
PRODID:icalendar-ruby
CALSCALE:GREGORIAN
METHOD:PUBLISH
BEGIN:VEVENT
DTSTAMP:20260424T194824Z
UID:17-1011341@wordformed.org
DTSTART:20261101T163000Z
DTEND:20261101T183000Z
CLASS:PUBLIC
CREATED:20260424T130151
DESCRIPTION:Sunday Morning Worship
LAST-MODIFIED:20260424T130151
LOCATION:
SUMMARY:Sunday Morning Worship
URL;VALUE=URI:https://wordformed.org/events/sunday-morning-worship/2026-11-
 01
END:VEVENT
END:VCALENDAR
