BEGIN:VCALENDAR
VERSION:2.0
PRODID:icalendar-ruby
CALSCALE:GREGORIAN
METHOD:PUBLISH
BEGIN:VEVENT
DTSTAMP:20260424T181921Z
UID:17-1011340@wordformed.org
DTSTART:20261025T153000Z
DTEND:20261025T173000Z
CLASS:PUBLIC
CREATED:20260424T130151
DESCRIPTION:Sunday Morning Worship
LAST-MODIFIED:20260424T130151
LOCATION:
SUMMARY:Sunday Morning Worship
URL;VALUE=URI:https://wordformed.org/events/sunday-morning-worship/2026-10-
 25
END:VEVENT
END:VCALENDAR
