BEGIN:VCALENDAR
VERSION:2.0
PRODID:icalendar-ruby
CALSCALE:GREGORIAN
METHOD:PUBLISH
BEGIN:VEVENT
DTSTAMP:20260424T165403Z
UID:17-1010419@wordformed.org
DTSTART:20261018T153000Z
DTEND:20261018T173000Z
CLASS:PUBLIC
CREATED:20260424T101256
DESCRIPTION:Sunday Morning Worship
LAST-MODIFIED:20260424T101256
LOCATION:
SUMMARY:Sunday Morning Worship
URL;VALUE=URI:https://wordformed.org/events/sunday-morning-worship/2026-10-
 18
END:VEVENT
END:VCALENDAR
