BEGIN:VCALENDAR
VERSION:2.0
PRODID:icalendar-ruby
CALSCALE:GREGORIAN
METHOD:PUBLISH
BEGIN:VEVENT
DTSTAMP:20260424T132421Z
UID:17-1009497@wordformed.org
DTSTART:20261004T153000Z
DTEND:20261004T173000Z
CLASS:PUBLIC
CREATED:20260424T071904
DESCRIPTION:Sunday Morning Worship
LAST-MODIFIED:20260424T071904
LOCATION:
SUMMARY:Sunday Morning Worship
URL;VALUE=URI:https://wordformed.org/events/sunday-morning-worship/2026-10-
 04
END:VEVENT
END:VCALENDAR
