BEGIN:VCALENDAR
VERSION:2.0
PRODID:icalendar-ruby
CALSCALE:GREGORIAN
METHOD:PUBLISH
BEGIN:VEVENT
DTSTAMP:20260425T142728Z
UID:32-1016322@wordformed.org
DTSTART:20261103T170000Z
DTEND:20261103T180000Z
CLASS:PUBLIC
CREATED:20260425T095347
DESCRIPTION:Please use Foss Street
LAST-MODIFIED:20260425T095347
LOCATION:
SUMMARY:Noon Day Prayer
URL;VALUE=URI:https://wordformed.org/events/noon-day-prayer/2026-11-03
ATTACH;FILENAME=Bishop-Laying-Hands.jpeg;FMTTYPE=image/jpeg:https://dq5pwpg
 1q8ru0.cloudfront.net/2024/09/17/01/55/30/c2a95631-0e69-4bb9-a9cb-bbf639a3
 decd/Bishop-Laying-Hands.jpeg
END:VEVENT
END:VCALENDAR
