BEGIN:VCALENDAR
VERSION:2.0
PRODID:icalendar-ruby
CALSCALE:GREGORIAN
METHOD:PUBLISH
BEGIN:VEVENT
DTSTAMP:20260425T033212Z
UID:35-1014697@wordformed.org
DTSTART:20261022T160000Z
DTEND:20261022T170000Z
CLASS:PUBLIC
CREATED:20260424T212436
DESCRIPTION:Please use Foss Street
LAST-MODIFIED:20260424T212436
LOCATION:
SUMMARY:Noon Day Prayer
URL;VALUE=URI:https://wordformed.org/events/noon-day-prayer--35/2026-10-22
ATTACH;FILENAME=Bishop-Laying-Hands.jpeg;FMTTYPE=image/jpeg:https://dq5pwpg
 1q8ru0.cloudfront.net/2024/09/17/01/57/25/735400cc-fa8f-4340-a16c-7505d499
 e464/Bishop-Laying-Hands.jpeg
END:VEVENT
END:VCALENDAR
